BEGIN:VCALENDAR
VERSION:2.0
PRODID:-//Freie Deutsche Aikido Vereinigung e.V. (FDAV) - ECPv6.15.16//NONSGML v1.0//EN
CALSCALE:GREGORIAN
METHOD:PUBLISH
X-WR-CALNAME:Freie Deutsche Aikido Vereinigung e.V. (FDAV)
X-ORIGINAL-URL:https://freie-deutsche-aikido-vereinigung.de
X-WR-CALDESC:Veranstaltungen für Freie Deutsche Aikido Vereinigung e.V. (FDAV)
REFRESH-INTERVAL;VALUE=DURATION:PT1H
X-Robots-Tag:noindex
X-PUBLISHED-TTL:PT1H
BEGIN:VTIMEZONE
TZID:Europe/Berlin
BEGIN:DAYLIGHT
TZOFFSETFROM:+0100
TZOFFSETTO:+0200
TZNAME:CEST
DTSTART:20250330T010000
END:DAYLIGHT
BEGIN:STANDARD
TZOFFSETFROM:+0200
TZOFFSETTO:+0100
TZNAME:CET
DTSTART:20251026T010000
END:STANDARD
BEGIN:DAYLIGHT
TZOFFSETFROM:+0100
TZOFFSETTO:+0200
TZNAME:CEST
DTSTART:20260329T010000
END:DAYLIGHT
BEGIN:STANDARD
TZOFFSETFROM:+0200
TZOFFSETTO:+0100
TZNAME:CET
DTSTART:20261025T010000
END:STANDARD
BEGIN:DAYLIGHT
TZOFFSETFROM:+0100
TZOFFSETTO:+0200
TZNAME:CEST
DTSTART:20270328T010000
END:DAYLIGHT
BEGIN:STANDARD
TZOFFSETFROM:+0200
TZOFFSETTO:+0100
TZNAME:CET
DTSTART:20271031T010000
END:STANDARD
END:VTIMEZONE
BEGIN:VEVENT
DTSTART;VALUE=DATE:20260424
DTEND;VALUE=DATE:20260427
DTSTAMP:20260424T132850
CREATED:20260210T193300Z
LAST-MODIFIED:20260327T122100Z
UID:3964-1776988800-1777247999@freie-deutsche-aikido-vereinigung.de
SUMMARY:Kampfkunstmeister Toshiro Suga\, Shihan (7. Dan) in Schwerin
DESCRIPTION:Erlebe drei Tage intensives Aikido-Training mit einem der renommiertesten Aikido-Meister weltweit: Toshiro Suga Shihan. Als direkter Schüler von O Sensei\, dem Begründer des Aikido\, und langjähriger Wegbegleiter von Nobuyoshi Tamura bringt Suga Sensei über 50 Jahre Erfahrung mit\, die er auf Lehrgängen in ganz Europa weitergibt. \n\n\n\nSie sehen gerade einen Platzhalterinhalt von Standard. Um auf den eigentlichen Inhalt zuzugreifen\, klicken Sie auf die Schaltfläche unten. Bitte beachten Sie\, dass dabei Daten an Drittanbieter weitergegeben werden. \n Inhalt entsperren Erforderlichen Service akzeptieren und Inhalte entsperren \n Mehr Informationen \n\n\nWarum dieser Lehrgang?\nToshiro Suga ist bekannt für seinen einzigartigen Ansatz\, der traditionelle Prinzipien mit moderner Interpretation verbindet. Seine Expertise umfasst: \n\nSchwert- und Stocktechniken (Bokken und Jo): Perfektionieren Sie Timing\, Distanzgefühl und Präzision.\nLeere-Hand-Techniken (Taijutsu): Lernen Sie die Verbindung zwischen Waffenarbeit und waffenlosen Techniken.\nKampfkunstphilosophie: Entdecken Sie die tiefere Bedeutung von Haltung\, Respekt und innerer Balance.\n\nBesondere Qualifikationen von Toshiro Suga\n\nDirekte Ausbildung bei O Sensei im Hombu Dojo\, Tokio.\nLangjährige Erfahrung als Lehrer in Frankreich\, Kanada und Deutschland.\nTrainer der kanadischen Armee für Aikido und Bajonett-Techniken.\nBekannt aus dem James-Bond-Film Moonraker als Chang.\n\nDetails & Anmeldung\nDer Lehrgang richtet sich an Anfänger und Fortgeschrittene. Nutzen Sie diese Gelegenheit\, um Ihr Aikido auf ein neues Niveau zu bringen!\nWeitere Informationen und Anmeldung über die Website der Aikido-Schule Schwerin. \nVerpasse nicht die Chance\, von einem Meister seines Fachs zu lernen! \n  \nÜbernachtung und Versorgung\nFür ein geringes Entgelt kann im Dojo übernachtet werden.\nNutzbar ist ein Kühlschrank
URL:https://freie-deutsche-aikido-vereinigung.de/event/kampfkunst-aikido-toshiro-suga/
LOCATION:Traditionelle Aikidoschule Schwerin\, Lübecker Straße 51\, Schwerin\, 19053\, Deutschland
CATEGORIES:Lehrgang
ATTACH;FMTTYPE=application/pdf:https://freie-deutsche-aikido-vereinigung.de/wp-content/uploads/2026/02/Toshiro_Suga_4_2026.pdf
END:VEVENT
BEGIN:VEVENT
DTSTART;VALUE=DATE:20260605
DTEND;VALUE=DATE:20260607
DTSTAMP:20260424T132850
CREATED:20250226T125652Z
LAST-MODIFIED:20260217T141548Z
UID:3391-1780617600-1780790399@freie-deutsche-aikido-vereinigung.de
SUMMARY:Aikido Lehrgang bei Pierre Congard\, 6. Dan Aikikai in Rostock
DESCRIPTION:Warum teilnehmen?\nWaffentraining mit Schwert (Bokken) und Stock (Jo) sowie Atemi-Techniken sind essenzielle Bestandteile des Aikido\, die oft vernachlässigt werden. Pierre Congard zeigt\, wie diese Elemente effektiv in Technik integriert werden können\, um Timing\, Distanzgefühl und Präzision zu verbessern. Atemi dient dabei nicht nur als Ablenkung\, sondern auch als Vorbereitung auf Wurf- und Hebeltechniken. \nWas erwartet dich?\n\nWaffentraining: Präzise Übungen mit Bokken und Jo zur Verbesserung deiner Technik.\nAtemi-Techniken: Schlagtechniken für effektive Angriffsabwehr.\nDynamisches Training: Kombination aus traditionellen Prinzipien wie irimi (Eintreten) und tenkan (Drehen).\n\nVeranstaltungsort:\nDas wunderschöne Dojo der Traditionellen Aikido-Schule Rostock im traditionsreichen Fischereihafen bietet die perfekte Atmosphäre für diesen Lehrgang. \nDetails zum Lehrgang
URL:https://freie-deutsche-aikido-vereinigung.de/event/lehrgang-kampfkunst-mit-pierre-congard-6-dan-aikikai-rostock/
LOCATION:Traditionelle Aikido Schule Rostock\, Alter Hafen Nord 216\, Rostock\, 18069\, Deutschland
CATEGORIES:Lehrgang
ATTACH;FMTTYPE=image/jpeg:https://freie-deutsche-aikido-vereinigung.de/wp-content/uploads/2025/02/Unbenannt.jpg
GEO:54.111444;12.086378
X-APPLE-STRUCTURED-LOCATION;VALUE=URI;X-ADDRESS=Traditionelle Aikido Schule Rostock Alter Hafen Nord 216 Rostock 18069 Deutschland;X-APPLE-RADIUS=500;X-TITLE=Alter Hafen Nord 216:geo:12.086378,54.111444
END:VEVENT
BEGIN:VEVENT
DTSTART;TZID=Europe/Berlin:20260609T090000
DTEND;TZID=Europe/Berlin:20260611T170000
DTSTAMP:20260424T132850
CREATED:20260214T172414Z
LAST-MODIFIED:20260216T103346Z
UID:4009-1780995600-1781197200@freie-deutsche-aikido-vereinigung.de
SUMMARY:AWO Abschlussseminar bei Pierre Congard (6. Dan)
DESCRIPTION:Seit einigen Jahren unterrichtet unser technischer Leiter Pierre Congard (6.Dan) jedes Jahr Freiwilligendienstler der AWO in ihrer Abschlusswoche in Malchin: drei Tage à vier Stunden\, um sie das Jahr vergessen zu lassen … \nGekrönt wird die harte Arbeit von einer Vorführung vor allen FSJlern – ce n´est pas évident!
URL:https://freie-deutsche-aikido-vereinigung.de/event/abschlussseminar-der-awo-bei-pierre-congard-6-dan/
LOCATION:Malchin\, Germany
ATTACH;FMTTYPE=image/jpeg:https://freie-deutsche-aikido-vereinigung.de/wp-content/uploads/2021/02/DSC_9298-3-2-e1613311054158.jpg
END:VEVENT
BEGIN:VEVENT
DTSTART;TZID=Europe/Berlin:20260620T080000
DTEND;TZID=Europe/Berlin:20260621T170000
DTSTAMP:20260424T132850
CREATED:20260406T191913Z
LAST-MODIFIED:20260406T194115Z
UID:4156-1781942400-1782061200@freie-deutsche-aikido-vereinigung.de
SUMMARY:Internationales Aikido-Seminar mit Jaff Raji (6.Dan)
DESCRIPTION:Diejenigen unter Euch\, die so wie ich länger als 25 oder 30 Jahre Aikido trainieren\, werden sich vielleicht erinnern. Für alle anderen verweise ich auf die zahlreichen Youtube-Videos\, um sich vorab schon mal einen Eindruck zu verschaffen…\nIch war jedenfalls ganz begeistert in Bruchsal im letzten Frühjahr und erlebte einen Lehrer\, der sich als Typ eigentlich gar nicht verändert hat\, freundlich\, aufmerksam und relaxed…\n\nDas Training war gleichzeitig sehr anstrengend und entspannt\, fordernd\, ohne zu überfordern. Na\, wie auch immer\, macht Euch einfach selbst ein Bild und bitte meldet Euch so bald wie möglich verbindlich an. \nUns stehen insgesamt 90 Quadratmeter Tatami zur Verfügung\, sollten sich mehr als 40 oder 50 Teilnehmer anmelden\, werden wir ggf. noch Matten zusätzlich ausleihen.\nZum Thema Anmeldung / „early bird ticket“ etc / Übernachtungen usw. findet Ihr alle Infos auf der Webseite.
URL:https://freie-deutsche-aikido-vereinigung.de/event/aikido-seminar-mit-jaff-raji-6-dan/
LOCATION:Tewswoos\, Am Sportplatz 2\, Tewswoos\, Mecklenburg-Vorpommern\, 19303 Vielank
CATEGORIES:Lehrgang
ATTACH;FMTTYPE=application/pdf:https://freie-deutsche-aikido-vereinigung.de/wp-content/uploads/2026/04/Lehrgang_Jaff_Raji_Tewswoos_2026-1.pdf
ORGANIZER;CN="Christoph Bader":MAILTO:keramik.bader@gmail.com
END:VEVENT
BEGIN:VEVENT
DTSTART;VALUE=DATE:20260711
DTEND;VALUE=DATE:20260712
DTSTAMP:20260424T132850
CREATED:20250508T075745Z
LAST-MODIFIED:20260214T175840Z
UID:3542-1783728000-1783814399@freie-deutsche-aikido-vereinigung.de
SUMMARY:Pierre Congard beim Insel- und Strandfest am Zippendorfer Strand
DESCRIPTION:Am 11. Juli 2026 erwartet Sie beim Strandfest am Zippendorfer Strand ein besonderes Highlight:\nAikido-Meister Pierre Congard aus Schwerin präsentiert die japanische Kampfkunst Aikido in einer eindrucksvollen Vorführung und lädt alle Interessierten anschließend herzlich zum Mitmachen ein. \nPierre Congard\, Träger des 6. Dan Aikikai Tokyo\, begann 1978 in seiner Heimatstadt Brest mit dem Aikido-Training. Als langjähriger Schüler von Tamura Shihan und Toshiro Suga Sensei\, beide direkte Schüler des Aikido-Begründers Morihei Ueshiba\, bringt er eine tiefe Verbindung zur traditionellen Aikido-Lehre mit. Seit 1993 lebt und unterrichtet er in Schwerin\, wo er maßgeblich zur Verbreitung des Aikido in Mecklenburg-Vorpommern beigetragen hat.\nStatt auf Konfrontation setzt Aikido auf das Umlenken von Angriffen durch kreis- und spiralartige Bewegungen. Es gibt keine Wettkämpfe; vielmehr steht das gemeinsame Üben im Vordergrund\, was Aikido für Menschen jeden Alters und jeder Konstitution zugänglich macht . \nErleben Sie die faszinierende Welt des Aikido live: Nach der Vorführung haben Sie die Möglichkeit\, selbst erste Schritte auf der Matte zu wagen. Ob jung oder alt\, sportlich oder ungeübt – jeder ist willkommen\, Aikido auszuprobieren und die eigene Balance\, Koordination und Achtsamkeit zu schulen.
URL:https://freie-deutsche-aikido-vereinigung.de/event/pierre-congard-6-dan-auf-dem-insel-und-strandfest-2025-am-zippendorfer-strand/
LOCATION:Zippendorfer Strand\, Am Strand\, Schwerin\, Mecklenburg Vorpommern\, 19063\, Germany
CATEGORIES:Erscheint auf aikidoschwerin.de,Vorführung und Schnupperkurse
ATTACH;FMTTYPE=image/jpeg:https://freie-deutsche-aikido-vereinigung.de/wp-content/uploads/2025/05/Pierre-am-strand-2005.jpg
END:VEVENT
BEGIN:VEVENT
DTSTART;VALUE=DATE:20260719
DTEND;VALUE=DATE:20260727
DTSTAMP:20260424T132850
CREATED:20250228T105748Z
LAST-MODIFIED:20260224T154302Z
UID:3426-1784419200-1785110399@freie-deutsche-aikido-vereinigung.de
SUMMARY:Sommerlehrgang mit Toshiro Suga Shihan (7. Dan Aikikai) in Luc Sur Mer - 25 Jahre
DESCRIPTION:Experience a week of intensive Aikido training with one of the world’s most renowned Aikido masters: Toshiro Suga Shihan. As a direct student of O Sensei\, the founder of Aikido\, and a long-time companion of Nobuyoshi Tamura\, Suga Sensei brings over 50 years of experience that he shares in seminars across Europe. \n\n\n\nSie sehen gerade einen Platzhalterinhalt von Standard. Um auf den eigentlichen Inhalt zuzugreifen\, klicken Sie auf die Schaltfläche unten. Bitte beachten Sie\, dass dabei Daten an Drittanbieter weitergegeben werden. \n Inhalt entsperren Erforderlichen Service akzeptieren und Inhalte entsperren \n Mehr Informationen \n\n\nWhy This Seminar?\nToshiro Suga is known for his unique approach\, combining traditional principles with modern interpretation. His expertise includes: \n\nSword and staff techniques (Bokken and Jo): Perfect your timing\, distance perception\, and precision.\nEmpty-hand techniques (Taijutsu): Learn the connection between weapons work and unarmed techniques.\nMartial arts philosophy: Discover the deeper meaning of posture\, respect\, and inner balance.\n\nToshiro Suga’s Special Qualifications\n\nDirect training with O Sensei at Hombu Dojo\, Tokyo.\nExtensive teaching experience in France\, Canada\, and Germany.\nTrainer for the Canadian Army in Aikido and bayonet techniques.\nKnown for his role as Chang in the James Bond film Moonraker.\n\nDetails & Registration\nThe seminar is suitable for beginners and advanced practitioners. Take this opportunity to elevate your Aikido to a new level! This seminar is a real insider tip\, offering a fantastic Aikido experience combined with a great beach holiday and delicious food. \nFor more information and registration\, please visit the website of Aikido et Systema Luc Sur Mer. \nDon’t miss this chance to learn from a master of the art in the beautiful setting of Luc-sur-Mer\, France!
URL:https://freie-deutsche-aikido-vereinigung.de/event/jubilaeumslehrgang-mit-toshiro-suga-shihan-7-dan-aikikai-in-luc-sur-mer-25-jahre/
LOCATION:Luc Sur Mer\, Gymnase Jean Chabriac\, Rue du Docteur Tessel\, Luc-sur-Mer\, 14530\, Frankreich
CATEGORIES:Lehrgang
ATTACH;FMTTYPE=application/pdf:https://freie-deutsche-aikido-vereinigung.de/wp-content/uploads/2025/02/Luc-sur-Mer-2026.pdf
GEO:49.316391;-0.358008
X-APPLE-STRUCTURED-LOCATION;VALUE=URI;X-ADDRESS=Luc Sur Mer Gymnase Jean Chabriac Rue du Docteur Tessel Luc-sur-Mer 14530 Frankreich;X-APPLE-RADIUS=500;X-TITLE=Gymnase Jean Chabriac\, Rue du Docteur Tessel:geo:-0.358008,49.316391
END:VEVENT
BEGIN:VEVENT
DTSTART;TZID=Europe/Berlin:20260926T103000
DTEND;TZID=Europe/Berlin:20260926T163000
DTSTAMP:20260424T132850
CREATED:20260223T193526Z
LAST-MODIFIED:20260316T110912Z
UID:4068-1790418600-1790440200@freie-deutsche-aikido-vereinigung.de
SUMMARY:Lehrgang - Pierre Congard\, 6. Dan Aikikai - Neustrelitz
DESCRIPTION:Am 26. September 2026 lädt das Aikido Dojo Neustrelitz zu einem Lehrgang mit Pierre Congard (6. Dan) ein. Die Veranstaltung findet in der Woldegker Straße statt und verspricht\, Aikidoka aller Erfahrungsstufen zu inspirieren und zu fördern. \nPierre Congard und sein Lehrstil\nPierre Congard\, bekannt für seinen Lehrstil „Irimi\, Atemi\, Fini“\, wird sein umfassendes Wissen und seine jahrzehntelange Erfahrung teilen. Teilnehmer können sich auf ein intensives Training freuen\, das die Grundprinzipien des Aikido vertieft: \n\nNutzung von Bewegung\, Balance und Technik statt Gewalt\nKontrolle des Gegners ohne Schaden zuzufügen\n\n\n\n\nSie sehen gerade einen Platzhalterinhalt von Standard. Um auf den eigentlichen Inhalt zuzugreifen\, klicken Sie auf die Schaltfläche unten. Bitte beachten Sie\, dass dabei Daten an Drittanbieter weitergegeben werden. \n Inhalt entsperren Erforderlichen Service akzeptieren und Inhalte entsperren \n Mehr Informationen \n\n\nLehrgangsinhalt\nDer Lehrgang wird voraussichtlich folgende Aspekte umfassen: \n\nVertiefung traditioneller Aikido-Bewegungen\nHarmonisierung von Körper und Geist\nWaffentraining mit Jo (Holzstock)\, Bokken (Holzschwert) und Tanto (Holzmesser)\nVerbesserung der Fallschule und Bewegungsdynamik\n\nDas Aikido Dojo Neustrelitz betont\, dass Aikido mehr als nur körperliches Training ist. Es fördert auch geistige Ausgeglichenheit und moralische Entwicklung\, im Einklang mit der Aikido-Philosophie von Harmonie und Respekt. \nDie Ausschreibung findet ihr hier. \nNeustrelitz und Umgebung\nNeustrelitz\, eingebettet in die malerische Mecklenburgische Seenplatte\, bietet den perfekten Rahmen für diesen Lehrgang. Nach dem Training lädt die Region zum Verweilen ein: \n\nEntspannen Sie an einem der über 1000 Seen\nUnternehmen Sie eine Paddeltour auf den Wasserwegen\nErkunden Sie den nahegelegenen Müritz-Nationalpark\nBesuchen Sie das historische Schloss Mirow\n\nDiese einzigartige Kombination aus hochwertigem Aikido-Training und der Schönheit der Mecklenburgischen Seenplatte verspricht ein unvergessliches Wochenende.
URL:https://freie-deutsche-aikido-vereinigung.de/event/lehrgang-pierre-congard-6-dan-aikikai-neustrelitz-3/
LOCATION:Bundespolizei AFZ Ost\, Woldegker Chaussee 50\, Neustrelitz\, 17235\, Deutschland
CATEGORIES:Lehrgang
ATTACH;FMTTYPE=image/png:https://freie-deutsche-aikido-vereinigung.de/wp-content/uploads/2026/02/Foto_Pierre-Congard_Neustrelitz.png
END:VEVENT
BEGIN:VEVENT
DTSTART;VALUE=DATE:20261017
DTEND;VALUE=DATE:20261018
DTSTAMP:20260424T132850
CREATED:20260216T105422Z
LAST-MODIFIED:20260216T105422Z
UID:4044-1792195200-1792281599@freie-deutsche-aikido-vereinigung.de
SUMMARY:Prüfungsvorbereitungslehrgang bei Pierre Congard (6. Dan Aikikai) - Schwerin
DESCRIPTION:Besuche unseren Social-Media-Kanale für exklusive Einblicke: \n\n\n\nSie sehen gerade einen Platzhalterinhalt von Standard. Um auf den eigentlichen Inhalt zuzugreifen\, klicken Sie auf die Schaltfläche unten. Bitte beachten Sie\, dass dabei Daten an Drittanbieter weitergegeben werden. \n Inhalt entsperren Erforderlichen Service akzeptieren und Inhalte entsperren \n Mehr Informationen \n\n\nAnmeldung & Details:\nMelde dich jetzt an und sichere dir deinen Platz! Weitere Informationen findest du auf der Website der Aikido-Schule Schwerin. \n 
URL:https://freie-deutsche-aikido-vereinigung.de/event/pruefungsvorbereitungslehrgang-bei-pierre-congard-6-dan-aikikai-schwerin/
LOCATION:Traditionelle Aikidoschule Schwerin\, Lübecker Straße 51\, Schwerin\, 19053\, Deutschland
CATEGORIES:Lehrgang
ATTACH;FMTTYPE=image/jpeg:https://freie-deutsche-aikido-vereinigung.de/wp-content/uploads/2025/05/20250412_154219.jpg
END:VEVENT
BEGIN:VEVENT
DTSTART;TZID=Europe/Berlin:20261023T180000
DTEND;TZID=Europe/Berlin:20261024T183000
DTSTAMP:20260424T132850
CREATED:20260217T142141Z
LAST-MODIFIED:20260217T142141Z
UID:4051-1792778400-1792866600@freie-deutsche-aikido-vereinigung.de
SUMMARY:Lehrgang mit Christoph Bader 5. Dan in Rostock
DESCRIPTION:Zeiten:\nFreitag\n18:00 Uhr – 20:30 Uhr\nSamstag\n10:30 Uhr bis 12:30 Uhr\n15:30 Uhr bis 18:30 Uhr\n\n\n\n\n\nOrt:\nTraditionelle Aikidoschule Rostock\, Schule für Kampfkunst und Selbsverteidigung\nAlter Hafen Nord 2016\, 18069 Rostock\n\n\nAikido-Sommerlehrgang mit Christoph Bader: Verbindung von Tradition und Innovation\nAikidoka aller Stile und Erfahrungsstufen sind eingeladen\, an einem inspirierenden Sommerlehrgang mit Christoph Bader teilzunehmen. Dieser Lehrgang bietet die Gelegenheit\, Aikido in seiner Tiefe zu erfahren\, geleitet von einem Lehrer\, dessen Expertise in verschiedenen Kampfkünsten fundiert ist.\nChristoph Bader ist mehr als nur ein Aikido-Lehrer; er ist ein lebenslanger Schüler der Kampfkünste. Seine fundierte Erfahrung im Karate ermöglicht ihm\, im Aikido präzise und effektive Atemi-Techniken zu vermitteln. Darüber hinaus hat er sich intensiv mit dem japanischen Schwerttraining (Kenjutsu) auseinandergesetzt\, was ihm ein tiefes Verständnis für Prinzipien wie Distanz\, Timing sowie Körperhaltung vermittelt. Diese Prinzipien sind im Aikido von unschätzbarem Wert. \nInhalte des Lehrgangs:\n\nGrundlagen und Prinzipien: Wir werden uns intensiv mit den fundamentalen Konzepten des Aikido auseinandersetzen und diese in Bezug zu Christoph Baders Erfahrungen in anderen Kampfkünsten setzen.\nKenjutsu & Atemi: Ein besonderer Schwerpunkt liegt auf der Integration von Kenjutsu-Prinzipien in das Aikido und der Anwendung von Atemi-Techniken zur Optimierung der Aikido-Bewegungen.\nPhilosophie und Anwendung: Wir werden nicht nur die technischen Aspekte des Aikido beleuchten\, sondern auch die dahinterliegende Philosophie und ihre praktische Anwendung im Alltag.\n\nDieser Lehrgang richtet sich an Aikidoka\, die ihr Verständnis der Kampfkunst vertiefen\, ihre Fähigkeiten erweitern und die Verbindung zwischen Aikido und anderen Kampfkünsten erforschen möchten. Egal\, ob du Anfänger oder Fortgeschrittener bist\, du wirst von Christoph Baders einzigartigem Ansatz profitieren und neue Einblicke in das Aikido gewinnen. \nMelde dich jetzt an und sichere dir deinen Platz in diesem außergewöhnlichen Sommerlehrgang! \nPreise (Normal/ermäßigt*):\n\n\n\n\n\nFDAV-Mitglieder:\n\n\nErwachsene / Jugendliche (ganzer Lehrgang):\n60€ / 40€\n35€ / 25€\n\n\nErwachsene / Jugendliche (eine Einheit à 1\,5h/2h):\n15€ / 10€\n10€ / 5€\n\n\nKinder:\n10€\n5€\n\n\n\nDer Beitrag ist zu Beginn des Lehrgangs bar oder mit Karte zu entrichten!\nAuf alle Preise gibt es für FDAV-Mitglieder 40% Rabatt.\n*Ermäßigung gelten für Jugendliche\, Studenten und Arbeitslose. Die Berechtigung ist nachzuweisen! \nÜbernachtung und Versorgung\nEs kann im Dojo übernachtet werden.\nNutzbar sind Kühlschrank\, zwei Kochplatten mit Geschirr\, Kaffeemaschine\, Miniofen und ein Wasserkocher.\nIn der Nähe könnt Ihr hier einkaufen\nAbends gemütliches Beisammensein mit Grill und Feuerschale.\nBitte organisiert Grillgut untereinander! \nAktuelles immer hier
URL:https://freie-deutsche-aikido-vereinigung.de/event/lehrgang-mit-christoph-bader-5-dan-in-rostock-3/
LOCATION:Traditionelle Aikido Schule Rostock\, Alter Hafen Nord 216\, Rostock\, 18069\, Deutschland
CATEGORIES:Lehrgang
ATTACH;FMTTYPE=image/jpeg:https://freie-deutsche-aikido-vereinigung.de/wp-content/uploads/2023/11/368d407a-d1c8-48c4-a742-54327475ad90.jpg
ORGANIZER;CN="Traditionelle AIKIDO-Schule Rostock e.V.":MAILTO:info@aikidorostock.de
GEO:54.111444;12.086378
X-APPLE-STRUCTURED-LOCATION;VALUE=URI;X-ADDRESS=Traditionelle Aikido Schule Rostock Alter Hafen Nord 216 Rostock 18069 Deutschland;X-APPLE-RADIUS=500;X-TITLE=Alter Hafen Nord 216:geo:12.086378,54.111444
END:VEVENT
END:VCALENDAR