BEGIN:VCALENDAR
VERSION:2.0
PRODID:-//Freie Deutsche Aikido Vereinigung e.V. (FDAV) - ECPv6.15.16//NONSGML v1.0//EN
CALSCALE:GREGORIAN
METHOD:PUBLISH
X-ORIGINAL-URL:https://freie-deutsche-aikido-vereinigung.de
X-WR-CALDESC:Veranstaltungen für Freie Deutsche Aikido Vereinigung e.V. (FDAV)
REFRESH-INTERVAL;VALUE=DURATION:PT1H
X-Robots-Tag:noindex
X-PUBLISHED-TTL:PT1H
BEGIN:VTIMEZONE
TZID:Europe/Berlin
BEGIN:DAYLIGHT
TZOFFSETFROM:+0100
TZOFFSETTO:+0200
TZNAME:CEST
DTSTART:20250330T010000
END:DAYLIGHT
BEGIN:STANDARD
TZOFFSETFROM:+0200
TZOFFSETTO:+0100
TZNAME:CET
DTSTART:20251026T010000
END:STANDARD
BEGIN:DAYLIGHT
TZOFFSETFROM:+0100
TZOFFSETTO:+0200
TZNAME:CEST
DTSTART:20260329T010000
END:DAYLIGHT
BEGIN:STANDARD
TZOFFSETFROM:+0200
TZOFFSETTO:+0100
TZNAME:CET
DTSTART:20261025T010000
END:STANDARD
BEGIN:DAYLIGHT
TZOFFSETFROM:+0100
TZOFFSETTO:+0200
TZNAME:CEST
DTSTART:20270328T010000
END:DAYLIGHT
BEGIN:STANDARD
TZOFFSETFROM:+0200
TZOFFSETTO:+0100
TZNAME:CET
DTSTART:20271031T010000
END:STANDARD
END:VTIMEZONE
BEGIN:VEVENT
DTSTART;TZID=Europe/Berlin:20260620T080000
DTEND;TZID=Europe/Berlin:20260621T170000
DTSTAMP:20260424T145145
CREATED:20260406T191913Z
LAST-MODIFIED:20260406T194115Z
UID:4156-1781942400-1782061200@freie-deutsche-aikido-vereinigung.de
SUMMARY:Internationales Aikido-Seminar mit Jaff Raji (6.Dan)
DESCRIPTION:Diejenigen unter Euch\, die so wie ich länger als 25 oder 30 Jahre Aikido trainieren\, werden sich vielleicht erinnern. Für alle anderen verweise ich auf die zahlreichen Youtube-Videos\, um sich vorab schon mal einen Eindruck zu verschaffen…\nIch war jedenfalls ganz begeistert in Bruchsal im letzten Frühjahr und erlebte einen Lehrer\, der sich als Typ eigentlich gar nicht verändert hat\, freundlich\, aufmerksam und relaxed…\n\nDas Training war gleichzeitig sehr anstrengend und entspannt\, fordernd\, ohne zu überfordern. Na\, wie auch immer\, macht Euch einfach selbst ein Bild und bitte meldet Euch so bald wie möglich verbindlich an. \nUns stehen insgesamt 90 Quadratmeter Tatami zur Verfügung\, sollten sich mehr als 40 oder 50 Teilnehmer anmelden\, werden wir ggf. noch Matten zusätzlich ausleihen.\nZum Thema Anmeldung / „early bird ticket“ etc / Übernachtungen usw. findet Ihr alle Infos auf der Webseite.
URL:https://freie-deutsche-aikido-vereinigung.de/event/aikido-seminar-mit-jaff-raji-6-dan/
LOCATION:Tewswoos\, Am Sportplatz 2\, Tewswoos\, Mecklenburg-Vorpommern\, 19303 Vielank
CATEGORIES:Lehrgang
ATTACH;FMTTYPE=application/pdf:https://freie-deutsche-aikido-vereinigung.de/wp-content/uploads/2026/04/Lehrgang_Jaff_Raji_Tewswoos_2026-1.pdf
ORGANIZER;CN="Christoph Bader":MAILTO:keramik.bader@gmail.com
END:VEVENT
END:VCALENDAR