BEGIN:VCALENDAR
VERSION:2.0
PRODID:-//Freie Deutsche Aikido Vereinigung e.V. (FDAV) - ECPv6.15.16//NONSGML v1.0//EN
CALSCALE:GREGORIAN
METHOD:PUBLISH
X-WR-CALNAME:Freie Deutsche Aikido Vereinigung e.V. (FDAV)
X-ORIGINAL-URL:https://freie-deutsche-aikido-vereinigung.de
X-WR-CALDESC:Veranstaltungen für Freie Deutsche Aikido Vereinigung e.V. (FDAV)
REFRESH-INTERVAL;VALUE=DURATION:PT1H
X-Robots-Tag:noindex
X-PUBLISHED-TTL:PT1H
BEGIN:VTIMEZONE
TZID:Europe/Berlin
BEGIN:DAYLIGHT
TZOFFSETFROM:+0100
TZOFFSETTO:+0200
TZNAME:CEST
DTSTART:20240331T010000
END:DAYLIGHT
BEGIN:STANDARD
TZOFFSETFROM:+0200
TZOFFSETTO:+0100
TZNAME:CET
DTSTART:20241027T010000
END:STANDARD
BEGIN:DAYLIGHT
TZOFFSETFROM:+0100
TZOFFSETTO:+0200
TZNAME:CEST
DTSTART:20250330T010000
END:DAYLIGHT
BEGIN:STANDARD
TZOFFSETFROM:+0200
TZOFFSETTO:+0100
TZNAME:CET
DTSTART:20251026T010000
END:STANDARD
BEGIN:DAYLIGHT
TZOFFSETFROM:+0100
TZOFFSETTO:+0200
TZNAME:CEST
DTSTART:20260329T010000
END:DAYLIGHT
BEGIN:STANDARD
TZOFFSETFROM:+0200
TZOFFSETTO:+0100
TZNAME:CET
DTSTART:20261025T010000
END:STANDARD
END:VTIMEZONE
BEGIN:VEVENT
DTSTART;TZID=Europe/Berlin:20251017T170000
DTEND;TZID=Europe/Berlin:20251018T181500
DTSTAMP:20260424T201646
CREATED:20250228T102614Z
LAST-MODIFIED:20250508T080432Z
UID:3421-1760720400-1760811300@freie-deutsche-aikido-vereinigung.de
SUMMARY:Lehrgang - Kampfkunst mit Pierre Congard\, 6. Dan Aikikai - Rostock
DESCRIPTION:Warum teilnehmen?\nWaffentraining mit Schwert (Bokken) und Stock (Jo) sowie Atemi-Techniken sind essenzielle Bestandteile des Aikido\, die oft vernachlässigt werden. Pierre Congard zeigt dir\, wie du diese Elemente effektiv in deine Technik integrieren kannst\, um Timing\, Distanzgefühl und Präzision zu verbessern. Atemi dient dabei nicht nur als Ablenkung\, sondern auch als Vorbereitung auf Wurf- und Hebeltechniken. \nWas erwartet dich?\n\nWaffentraining: Präzise Übungen mit Bokken und Jo zur Verbesserung deiner Technik.\nAtemi-Techniken: Schlagtechniken für effektive Angriffsabwehr.\nDynamisches Training: Kombination aus traditionellen Prinzipien wie irimi (Eintreten) und tenkan (Drehen).\n\nPierre Congard in Motion:\n\n\n\nSie sehen gerade einen Platzhalterinhalt von Standard. Um auf den eigentlichen Inhalt zuzugreifen\, klicken Sie auf die Schaltfläche unten. Bitte beachten Sie\, dass dabei Daten an Drittanbieter weitergegeben werden. \n Inhalt entsperren Erforderlichen Service akzeptieren und Inhalte entsperren \n Mehr Informationen \n\n\nVeranstaltungsort:\nDas wunderschöne Dojo der Traditionellen Aikido-Schule Rostock im traditionsreichen Fischereihafen bietet die perfekte Atmosphäre für diesen Lehrgang. \nDetails zum Lehrgang
URL:https://freie-deutsche-aikido-vereinigung.de/event/lehrgang-kampfkunst-mit-pierre-congard-6-dan-aikikai-rostock-2/
LOCATION:Traditionelle Aikido Schule Rostock\, Alter Hafen Nord 216\, Rostock\, 18069\, Deutschland
CATEGORIES:Lehrgang
ATTACH;FMTTYPE=image/jpeg:https://freie-deutsche-aikido-vereinigung.de/wp-content/uploads/2025/02/Unbenannt.jpg
ORGANIZER;CN="Traditionelle AIKIDO-Schule Rostock e.V.":MAILTO:info@aikidorostock.de
GEO:54.111444;12.086378
X-APPLE-STRUCTURED-LOCATION;VALUE=URI;X-ADDRESS=Traditionelle Aikido Schule Rostock Alter Hafen Nord 216 Rostock 18069 Deutschland;X-APPLE-RADIUS=500;X-TITLE=Alter Hafen Nord 216:geo:12.086378,54.111444
END:VEVENT
BEGIN:VEVENT
DTSTART;TZID=Europe/Berlin:20250628T100000
DTEND;TZID=Europe/Berlin:20250628T180000
DTSTAMP:20260424T201646
CREATED:20250226T122806Z
LAST-MODIFIED:20250228T110346Z
UID:3376-1751104800-1751133600@freie-deutsche-aikido-vereinigung.de
SUMMARY:Sommerlehrgang mit Thomas Raith\, 5. Dan Aikikai in Rostock
DESCRIPTION:Thomas Raith und sein vielseitiger Hintergrund\nThomas Raith\, bekannt für seine fundierte Aikido-Erfahrung\, bringt auch wertvolle Erkenntnisse aus seiner Praxis in Karate und Jujutsu mit. Diese Vielseitigkeit bereichert seinen Lehrstil und bietet den Teilnehmern eine einzigartige Perspektive auf Aikido. Er wird sein umfassendes Wissen und seine langjährige Erfahrung teilen\, wobei er Elemente aus verschiedenen Kampfkünsten integriert\, um das Verständnis für Aikido zu vertiefen. \nLehrgangsinhalt\nDer Lehrgang wird voraussichtlich folgende Aspekte umfassen: \n\nVertiefung traditioneller Aikido-Bewegungen mit Einblicken aus Karate und Jujutsu\nHarmonisierung von Körper und Geist unter Berücksichtigung verschiedener Kampfkunstprinzipien\nMöglicherweise Waffentraining mit Jo\, Bokken und Tanto\, ergänzt durch Techniken aus anderen Disziplinen\nVerbesserung der Fallschule und Bewegungsdynamik mit Elementen aus Jujutsu\n\nThomas Raiths vielseitiger Hintergrund verspricht ein besonders reichhaltiges und inspirierendes Training\, das die Teilnehmer in ihrer Aikido-Praxis weiter voranbringen wird. \nAttraktive Umgebung\nDer Lehrgang findet in der wunderschönen Hansestadt Rostock statt\, die im Sommer besonders reizvoll ist. Die Stadt bietet eine einzigartige Kombination aus historischem Charme und maritimem Flair. Der breite Ostseestrand in Warnemünde lädt zu erholsamen Spaziergängen ein\, während der lebendige Stadthafen mit seinen Schiffen und Restaurants für eine besondere Atmosphäre sorgt. Die frische Meeresluft\, angereichert mit Mineralien\, wirkt sich positiv auf Körper und Geist aus und unterstützt so die intensive Aikido-Praxis[1][4]. Die Teilnehmer können die Pausen zwischen den Trainingseinheiten nutzen\, um die Stadt zu erkunden oder am Strand zu entspannen. Das Dojo selbst befindet sich direkt am Wasser\, so dass sich die Schönheit der Stadt auch einfach direkt vor Ort erleben lässt. \nAktuelle Details findet Ihr hier
URL:https://freie-deutsche-aikido-vereinigung.de/event/lehrgang-mit-thomas-raith-5-dan-aikikai-rostock/
LOCATION:Traditionelle Aikido Schule Rostock\, Alter Hafen Nord 216\, Rostock\, 18069\, Deutschland
CATEGORIES:Lehrgang
ATTACH;FMTTYPE=image/jpeg:https://freie-deutsche-aikido-vereinigung.de/wp-content/uploads/2025/02/Thomas20Raith1.jpg
ORGANIZER;CN="Traditionelle AIKIDO-Schule Rostock e.V.":MAILTO:info@aikidorostock.de
GEO:54.111444;12.086378
X-APPLE-STRUCTURED-LOCATION;VALUE=URI;X-ADDRESS=Traditionelle Aikido Schule Rostock Alter Hafen Nord 216 Rostock 18069 Deutschland;X-APPLE-RADIUS=500;X-TITLE=Alter Hafen Nord 216:geo:12.086378,54.111444
END:VEVENT
BEGIN:VEVENT
DTSTART;TZID=Europe/Berlin:20250613T180000
DTEND;TZID=Europe/Berlin:20250614T183000
DTSTAMP:20260424T201646
CREATED:20250228T101421Z
LAST-MODIFIED:20250508T080700Z
UID:3416-1749837600-1749925800@freie-deutsche-aikido-vereinigung.de
SUMMARY:Lehrgang mit Christoph Bader 5. Dan in Rostock
DESCRIPTION:Zeiten:\nFreitag\n18:00 Uhr – 20:30 Uhr\nSamstag\n10:30 Uhr bis 12:30 Uhr\n15:30 Uhr bis 18:30 Uhr\n\n\n\n\n\nOrt:\nTraditionelle Aikidoschule Rostock\, Schule für Kampfkunst und Selbsverteidigung\nAlter Hafen Nord 2016\, 18069 Rostock\n\n\nAikido-Sommerlehrgang mit Christoph Bader: Verbindung von Tradition und Innovation\nAikidoka aller Stile und Erfahrungsstufen sind eingeladen\, an einem inspirierenden Sommerlehrgang mit Christoph Bader teilzunehmen. Dieser Lehrgang bietet die Gelegenheit\, Aikido in seiner Tiefe zu erfahren\, geleitet von einem Lehrer\, dessen Expertise in verschiedenen Kampfkünsten fundiert ist.\nChristoph Bader ist mehr als nur ein Aikido-Lehrer; er ist ein lebenslanger Schüler der Kampfkünste. Seine fundierte Erfahrung im Karate ermöglicht ihm\, im Aikido präzise und effektive Atemi-Techniken zu vermitteln. Darüber hinaus hat er sich intensiv mit dem japanischen Schwerttraining (Kenjutsu) auseinandergesetzt\, was ihm ein tiefes Verständnis für Prinzipien wie Distanz\, Timing sowie Körperhaltung vermittelt. Diese Prinzipien sind im Aikido von unschätzbarem Wert. \nInhalte des Lehrgangs:\n\nGrundlagen und Prinzipien: Wir werden uns intensiv mit den fundamentalen Konzepten des Aikido auseinandersetzen und diese in Bezug zu Christoph Baders Erfahrungen in anderen Kampfkünsten setzen.\nKenjutsu & Atemi: Ein besonderer Schwerpunkt liegt auf der Integration von Kenjutsu-Prinzipien in das Aikido und der Anwendung von Atemi-Techniken zur Optimierung der Aikido-Bewegungen.\nPhilosophie und Anwendung: Wir werden nicht nur die technischen Aspekte des Aikido beleuchten\, sondern auch die dahinterliegende Philosophie und ihre praktische Anwendung im Alltag.\n\nDieser Lehrgang richtet sich an Aikidoka\, die ihr Verständnis der Kampfkunst vertiefen\, ihre Fähigkeiten erweitern und die Verbindung zwischen Aikido und anderen Kampfkünsten erforschen möchten. Egal\, ob du Anfänger oder Fortgeschrittener bist\, du wirst von Christoph Baders einzigartigem Ansatz profitieren und neue Einblicke in das Aikido gewinnen. \nMelde dich jetzt an und sichere dir deinen Platz in diesem außergewöhnlichen Sommerlehrgang! \nPreise (Normal/ermäßigt*):\n\n\n\n\n\nFDAV-Mitglieder:\n\n\nErwachsene / Jugendliche (ganzer Lehrgang):\n60€ / 40€\n35€ / 25€\n\n\nErwachsene / Jugendliche (eine Einheit à 1\,5h/2h):\n15€ / 10€\n10€ / 5€\n\n\nKinder:\n10€\n5€\n\n\n\nDer Beitrag ist zu Beginn des Lehrgangs bar oder mit Karte zu entrichten!\nAuf alle Preise gibt es für FDAV-Mitglieder 40% Rabatt.\n*Ermäßigung gelten für Jugendliche\, Studenten und Arbeitslose. Die Berechtigung ist nachzuweisen! \nÜbernachtung und Versorgung\nEs kann im Dojo übernachtet werden.\nNutzbar sind Kühlschrank\, zwei Kochplatten mit Geschirr\, Kaffeemaschine\, Miniofen und ein Wasserkocher.\nIn der Nähe könnt Ihr hier einkaufen\nAbends gemütliches Beisammensein mit Grill und Feuerschale.\nBitte organisiert Grillgut untereinander! \nAktuelles immer hier
URL:https://freie-deutsche-aikido-vereinigung.de/event/lehrgang-mit-christoph-bader-5-dan-in-rostock-2/
LOCATION:Traditionelle Aikido Schule Rostock\, Alter Hafen Nord 216\, Rostock\, 18069\, Deutschland
CATEGORIES:Lehrgang
ATTACH;FMTTYPE=image/jpeg:https://freie-deutsche-aikido-vereinigung.de/wp-content/uploads/2023/11/368d407a-d1c8-48c4-a742-54327475ad90.jpg
ORGANIZER;CN="Traditionelle AIKIDO-Schule Rostock e.V.":MAILTO:info@aikidorostock.de
GEO:54.111444;12.086378
X-APPLE-STRUCTURED-LOCATION;VALUE=URI;X-ADDRESS=Traditionelle Aikido Schule Rostock Alter Hafen Nord 216 Rostock 18069 Deutschland;X-APPLE-RADIUS=500;X-TITLE=Alter Hafen Nord 216:geo:12.086378,54.111444
END:VEVENT
END:VCALENDAR