BEGIN:VCALENDAR
VERSION:2.0
PRODID:-//Freie Deutsche Aikido Vereinigung e.V. (FDAV) - ECPv6.15.16//NONSGML v1.0//EN
CALSCALE:GREGORIAN
METHOD:PUBLISH
X-WR-CALNAME:Freie Deutsche Aikido Vereinigung e.V. (FDAV)
X-ORIGINAL-URL:https://freie-deutsche-aikido-vereinigung.de
X-WR-CALDESC:Veranstaltungen für Freie Deutsche Aikido Vereinigung e.V. (FDAV)
REFRESH-INTERVAL;VALUE=DURATION:PT1H
X-Robots-Tag:noindex
X-PUBLISHED-TTL:PT1H
BEGIN:VTIMEZONE
TZID:Europe/Berlin
BEGIN:DAYLIGHT
TZOFFSETFROM:+0100
TZOFFSETTO:+0200
TZNAME:CEST
DTSTART:20250330T010000
END:DAYLIGHT
BEGIN:STANDARD
TZOFFSETFROM:+0200
TZOFFSETTO:+0100
TZNAME:CET
DTSTART:20251026T010000
END:STANDARD
BEGIN:DAYLIGHT
TZOFFSETFROM:+0100
TZOFFSETTO:+0200
TZNAME:CEST
DTSTART:20260329T010000
END:DAYLIGHT
BEGIN:STANDARD
TZOFFSETFROM:+0200
TZOFFSETTO:+0100
TZNAME:CET
DTSTART:20261025T010000
END:STANDARD
BEGIN:DAYLIGHT
TZOFFSETFROM:+0100
TZOFFSETTO:+0200
TZNAME:CEST
DTSTART:20270328T010000
END:DAYLIGHT
BEGIN:STANDARD
TZOFFSETFROM:+0200
TZOFFSETTO:+0100
TZNAME:CET
DTSTART:20271031T010000
END:STANDARD
END:VTIMEZONE
BEGIN:VEVENT
DTSTART;TZID=Europe/Berlin:20260609T090000
DTEND;TZID=Europe/Berlin:20260611T170000
DTSTAMP:20260424T144755
CREATED:20260214T172414Z
LAST-MODIFIED:20260216T103346Z
UID:4009-1780995600-1781197200@freie-deutsche-aikido-vereinigung.de
SUMMARY:AWO Abschlussseminar bei Pierre Congard (6. Dan)
DESCRIPTION:Seit einigen Jahren unterrichtet unser technischer Leiter Pierre Congard (6.Dan) jedes Jahr Freiwilligendienstler der AWO in ihrer Abschlusswoche in Malchin: drei Tage à vier Stunden\, um sie das Jahr vergessen zu lassen … \nGekrönt wird die harte Arbeit von einer Vorführung vor allen FSJlern – ce n´est pas évident!
URL:https://freie-deutsche-aikido-vereinigung.de/event/abschlussseminar-der-awo-bei-pierre-congard-6-dan/
LOCATION:Malchin\, Germany
ATTACH;FMTTYPE=image/jpeg:https://freie-deutsche-aikido-vereinigung.de/wp-content/uploads/2021/02/DSC_9298-3-2-e1613311054158.jpg
END:VEVENT
END:VCALENDAR