BEGIN:VCALENDAR
VERSION:2.0
PRODID:-//Freie Deutsche Aikido Vereinigung e.V. (FDAV) - ECPv6.15.16//NONSGML v1.0//EN
CALSCALE:GREGORIAN
METHOD:PUBLISH
X-ORIGINAL-URL:https://freie-deutsche-aikido-vereinigung.de
X-WR-CALDESC:Veranstaltungen für Freie Deutsche Aikido Vereinigung e.V. (FDAV)
REFRESH-INTERVAL;VALUE=DURATION:PT1H
X-Robots-Tag:noindex
X-PUBLISHED-TTL:PT1H
BEGIN:VTIMEZONE
TZID:Europe/Berlin
BEGIN:DAYLIGHT
TZOFFSETFROM:+0100
TZOFFSETTO:+0200
TZNAME:CEST
DTSTART:20220327T010000
END:DAYLIGHT
BEGIN:STANDARD
TZOFFSETFROM:+0200
TZOFFSETTO:+0100
TZNAME:CET
DTSTART:20221030T010000
END:STANDARD
BEGIN:DAYLIGHT
TZOFFSETFROM:+0100
TZOFFSETTO:+0200
TZNAME:CEST
DTSTART:20230326T010000
END:DAYLIGHT
BEGIN:STANDARD
TZOFFSETFROM:+0200
TZOFFSETTO:+0100
TZNAME:CET
DTSTART:20231029T010000
END:STANDARD
BEGIN:DAYLIGHT
TZOFFSETFROM:+0100
TZOFFSETTO:+0200
TZNAME:CEST
DTSTART:20240331T010000
END:DAYLIGHT
BEGIN:STANDARD
TZOFFSETFROM:+0200
TZOFFSETTO:+0100
TZNAME:CET
DTSTART:20241027T010000
END:STANDARD
END:VTIMEZONE
BEGIN:VEVENT
DTSTART;VALUE=DATE:20230331
DTEND;VALUE=DATE:20230403
DTSTAMP:20260424T203323
CREATED:20230221T212652Z
LAST-MODIFIED:20230221T220012Z
UID:2525-1680220800-1680479999@freie-deutsche-aikido-vereinigung.de
SUMMARY:Lehrgang mit Toshiro Suga Shihan\, 7. Dan Aikikai in Plougastel
DESCRIPTION:Toshiro ist zu Gast bei Francois in Plougastel in der Bretagne. \nAlle weiteren Details findet ihr in der Ausschreibung. \n  \n 
URL:https://freie-deutsche-aikido-vereinigung.de/event/lehrgang-mit-toshiro-suga-7-dan-aikikai-in-plougastel-2/
LOCATION:Salle Roz Avel Plougastel\, Salle Roz Avel\, rue Louison Bodet\, Plougastel Daoulas\, 29470\, Frankreich
CATEGORIES:Lehrgang
ATTACH;FMTTYPE=image/jpeg:https://freie-deutsche-aikido-vereinigung.de/wp-content/uploads/2023/02/2023-04_Toshiro.jpg
GEO:48.368947;-4.364825
X-APPLE-STRUCTURED-LOCATION;VALUE=URI;X-ADDRESS=Salle Roz Avel Plougastel Salle Roz Avel rue Louison Bodet Plougastel Daoulas 29470 Frankreich;X-APPLE-RADIUS=500;X-TITLE=Salle Roz Avel\, rue Louison Bodet:geo:-4.364825,48.368947
END:VEVENT
END:VCALENDAR